BEGIN:VCALENDAR
VERSION:2.0
PRODID:-//Leonhardischützen Maingründel - ECPv6.2.0.1//NONSGML v1.0//EN
CALSCALE:GREGORIAN
METHOD:PUBLISH
X-ORIGINAL-URL:https://www.schuetzenverein-maingruendel.de
X-WR-CALDESC:Veranstaltungen für Leonhardischützen Maingründel
REFRESH-INTERVAL;VALUE=DURATION:PT1H
X-Robots-Tag:noindex
X-PUBLISHED-TTL:PT1H
BEGIN:VTIMEZONE
TZID:Europe/Berlin
BEGIN:DAYLIGHT
TZOFFSETFROM:+0100
TZOFFSETTO:+0200
TZNAME:CEST
DTSTART:20210328T010000
END:DAYLIGHT
BEGIN:STANDARD
TZOFFSETFROM:+0200
TZOFFSETTO:+0100
TZNAME:CET
DTSTART:20211031T010000
END:STANDARD
END:VTIMEZONE
BEGIN:VEVENT
DTSTART;TZID=Europe/Berlin:20211112T200000
DTEND;TZID=Europe/Berlin:20211112T200000
DTSTAMP:20260421T194636
CREATED:20211007T200017Z
LAST-MODIFIED:20211007T200017Z
UID:999-1636747200-1636747200@www.schuetzenverein-maingruendel.de
SUMMARY:Übungsschießen
DESCRIPTION:Standaufsicht & Schießleitung: Willi Kraus
URL:https://www.schuetzenverein-maingruendel.de/event/uebungsschiessen-86/
CATEGORIES:Schießplan
END:VEVENT
END:VCALENDAR