BEGIN:VCALENDAR
VERSION:2.0
PRODID:-//Leonhardischützen Maingründel - ECPv6.2.0.1//NONSGML v1.0//EN
CALSCALE:GREGORIAN
METHOD:PUBLISH
X-WR-CALNAME:Leonhardischützen Maingründel
X-ORIGINAL-URL:https://www.schuetzenverein-maingruendel.de
X-WR-CALDESC:Veranstaltungen für Leonhardischützen Maingründel
REFRESH-INTERVAL;VALUE=DURATION:PT1H
X-Robots-Tag:noindex
X-PUBLISHED-TTL:PT1H
BEGIN:VTIMEZONE
TZID:Europe/Berlin
BEGIN:DAYLIGHT
TZOFFSETFROM:+0100
TZOFFSETTO:+0200
TZNAME:CEST
DTSTART:20190331T010000
END:DAYLIGHT
BEGIN:STANDARD
TZOFFSETFROM:+0200
TZOFFSETTO:+0100
TZNAME:CET
DTSTART:20191027T010000
END:STANDARD
END:VTIMEZONE
BEGIN:VEVENT
DTSTART;TZID=Europe/Berlin:20190403T184500
DTEND;TZID=Europe/Berlin:20190403T184500
DTSTAMP:20260425T013028
CREATED:20190329T171717Z
LAST-MODIFIED:20190329T171928Z
UID:827-1554317100-1554317100@www.schuetzenverein-maingruendel.de
SUMMARY:Staudenpokalschießen in Gessertshausen
DESCRIPTION:Am Mittwoch\, 03.04.2019 findet für die Leonhardischützen Maingründel das Staudenpokalschießen (Hinrunde) in Gessertshausen statt. \nDie Jugend fährt um 18.45 Uhr gemeinsam am Bürgerheim Maingründel los.\nFür die Erwachsenen geht´s ab 20.00 Uhr los. \nWir freuen uns auf eine zahlreiche Teilnahme  🙂 \nFür alle\, die am 03.04.2019 keine Zeit haben\, besteht die Möglichkeit\, am Sonntag\, 07.04.2019 zwischen 17.00 und 20.00 Uhr nach zu schießen.
URL:https://www.schuetzenverein-maingruendel.de/event/staudenpokalschiessen-in-gessertshausen/
CATEGORIES:Schießplan
END:VEVENT
BEGIN:VEVENT
DTSTART;TZID=Europe/Berlin:20190405T200000
DTEND;TZID=Europe/Berlin:20190405T200000
DTSTAMP:20260425T013028
CREATED:20190311T133829Z
LAST-MODIFIED:20190311T133829Z
UID:791-1554494400-1554494400@www.schuetzenverein-maingruendel.de
SUMMARY:Übungsschießen
DESCRIPTION:Schießbeginn für die Jugend ist um 20.00 Uhr \nStandaufsicht & Schießleitung: Matthias Schütz
URL:https://www.schuetzenverein-maingruendel.de/event/uebungsschiessen-61/
CATEGORIES:Schießplan
END:VEVENT
BEGIN:VEVENT
DTSTART;TZID=Europe/Berlin:20190412T200000
DTEND;TZID=Europe/Berlin:20190412T200000
DTSTAMP:20260425T013028
CREATED:20190325T161421Z
LAST-MODIFIED:20190325T161421Z
UID:821-1555099200-1555099200@www.schuetzenverein-maingruendel.de
SUMMARY:Übungsschießen
DESCRIPTION:Schießbeginn für die Jugend ist um 20.00 Uhr \nStandaufsicht & Schießleitung: Franz Kugelmann
URL:https://www.schuetzenverein-maingruendel.de/event/uebungsschiessen-62/
CATEGORIES:Schießplan
END:VEVENT
BEGIN:VEVENT
DTSTART;TZID=Europe/Berlin:20190426T200000
DTEND;TZID=Europe/Berlin:20190426T200000
DTSTAMP:20260425T013028
CREATED:20190325T161533Z
LAST-MODIFIED:20190325T161533Z
UID:823-1556308800-1556308800@www.schuetzenverein-maingruendel.de
SUMMARY:Vereinspokalschießen
DESCRIPTION:Schießbeginn für die Jugend ist um 20.00 Uhr \nStandaufsicht & Schießleitung: Wolfgang Brunsch
URL:https://www.schuetzenverein-maingruendel.de/event/vereinspokalschiessen-5/
CATEGORIES:Schießplan
END:VEVENT
END:VCALENDAR