BEGIN:VCALENDAR
VERSION:2.0
PRODID:-//Leonhardischützen Maingründel - ECPv6.2.0.1//NONSGML v1.0//EN
CALSCALE:GREGORIAN
METHOD:PUBLISH
X-WR-CALNAME:Leonhardischützen Maingründel
X-ORIGINAL-URL:https://www.schuetzenverein-maingruendel.de
X-WR-CALDESC:Veranstaltungen für Leonhardischützen Maingründel
REFRESH-INTERVAL;VALUE=DURATION:PT1H
X-Robots-Tag:noindex
X-PUBLISHED-TTL:PT1H
BEGIN:VTIMEZONE
TZID:Europe/Berlin
BEGIN:DAYLIGHT
TZOFFSETFROM:+0100
TZOFFSETTO:+0200
TZNAME:CEST
DTSTART:20190331T010000
END:DAYLIGHT
BEGIN:STANDARD
TZOFFSETFROM:+0200
TZOFFSETTO:+0100
TZNAME:CET
DTSTART:20191027T010000
END:STANDARD
END:VTIMEZONE
BEGIN:VEVENT
DTSTART;TZID=Europe/Berlin:20191101T193000
DTEND;TZID=Europe/Berlin:20191101T193000
DTSTAMP:20260424T141402
CREATED:20190920T095425Z
LAST-MODIFIED:20190920T095425Z
UID:863-1572636600-1572636600@www.schuetzenverein-maingruendel.de
SUMMARY:Übungsschießen
DESCRIPTION:Schießbeginn für die Jugend ist um 19.30 Uhr \nStandaufsicht & Schießleitung: Willi Kraus
URL:https://www.schuetzenverein-maingruendel.de/event/uebungsschiessen-70/
CATEGORIES:Schießplan
END:VEVENT
BEGIN:VEVENT
DTSTART;TZID=Europe/Berlin:20191102T200000
DTEND;TZID=Europe/Berlin:20191102T200000
DTSTAMP:20260424T141402
CREATED:20190920T094936Z
LAST-MODIFIED:20190920T094936Z
UID:855-1572724800-1572724800@www.schuetzenverein-maingruendel.de
SUMMARY:Staudenpokalball in Gessertshausen
DESCRIPTION:Staudenpokalball in Gessertshausen \nBeginn: 20.00 Uhr
URL:https://www.schuetzenverein-maingruendel.de/event/staudenpokalball-in-gessertshausen/
CATEGORIES:Feste
END:VEVENT
BEGIN:VEVENT
DTSTART;TZID=Europe/Berlin:20191108T193000
DTEND;TZID=Europe/Berlin:20191108T193000
DTSTAMP:20260424T141402
CREATED:20190920T095618Z
LAST-MODIFIED:20190920T095618Z
UID:865-1573241400-1573241400@www.schuetzenverein-maingruendel.de
SUMMARY:Übungsschießen
DESCRIPTION:Schießbeginn für die Jugend ist um 19.30 Uhr \nStandaufsicht & Schießleitung: Günther Burkhard
URL:https://www.schuetzenverein-maingruendel.de/event/uebungsschiessen-71/
CATEGORIES:Schießplan
END:VEVENT
BEGIN:VEVENT
DTSTART;TZID=Europe/Berlin:20191115T193000
DTEND;TZID=Europe/Berlin:20191115T193000
DTSTAMP:20260424T141402
CREATED:20190920T095712Z
LAST-MODIFIED:20190920T095712Z
UID:867-1573846200-1573846200@www.schuetzenverein-maingruendel.de
SUMMARY:Übungsschießen
DESCRIPTION:Schießbeginn für die Jugend ist um 19.30 Uhr \nStandaufsicht & Schießleitung: Josef Burkhard
URL:https://www.schuetzenverein-maingruendel.de/event/uebungsschiessen-72/
CATEGORIES:Schießplan
END:VEVENT
BEGIN:VEVENT
DTSTART;TZID=Europe/Berlin:20191122T193000
DTEND;TZID=Europe/Berlin:20191122T193000
DTSTAMP:20260424T141402
CREATED:20191025T112018Z
LAST-MODIFIED:20191025T112018Z
UID:903-1574451000-1574451000@www.schuetzenverein-maingruendel.de
SUMMARY:Königsschießen
DESCRIPTION:Schießbeginn für die Jugend ist um 19.30 Uhr \nStandaufsicht & Schießleitung: Joachim Schalk
URL:https://www.schuetzenverein-maingruendel.de/event/koenigsschiessen-5/
CATEGORIES:Schießplan
END:VEVENT
BEGIN:VEVENT
DTSTART;TZID=Europe/Berlin:20191129T193000
DTEND;TZID=Europe/Berlin:20191129T193000
DTSTAMP:20260424T141402
CREATED:20191025T112113Z
LAST-MODIFIED:20191025T112113Z
UID:905-1575055800-1575055800@www.schuetzenverein-maingruendel.de
SUMMARY:Königsschießen
DESCRIPTION:Schießbeginn für die Jugend ist um 19.30 Uhr \nStandaufsicht & Schießleitung: Johann Kugelmann
URL:https://www.schuetzenverein-maingruendel.de/event/koenigsschiessen-6/
CATEGORIES:Schießplan
END:VEVENT
END:VCALENDAR