BEGIN:VCALENDAR
VERSION:2.0
PRODID:-//Leonhardischützen Maingründel - ECPv6.2.0.1//NONSGML v1.0//EN
CALSCALE:GREGORIAN
METHOD:PUBLISH
X-ORIGINAL-URL:https://www.schuetzenverein-maingruendel.de
X-WR-CALDESC:Veranstaltungen für Leonhardischützen Maingründel
REFRESH-INTERVAL;VALUE=DURATION:PT1H
X-Robots-Tag:noindex
X-PUBLISHED-TTL:PT1H
BEGIN:VTIMEZONE
TZID:Europe/Berlin
BEGIN:DAYLIGHT
TZOFFSETFROM:+0100
TZOFFSETTO:+0200
TZNAME:CEST
DTSTART:20200329T010000
END:DAYLIGHT
BEGIN:STANDARD
TZOFFSETFROM:+0200
TZOFFSETTO:+0100
TZNAME:CET
DTSTART:20201025T010000
END:STANDARD
END:VTIMEZONE
BEGIN:VEVENT
DTSTART;TZID=Europe/Berlin:20200110T200000
DTEND;TZID=Europe/Berlin:20200110T200000
DTSTAMP:20260424T104718
CREATED:20191212T155919Z
LAST-MODIFIED:20200103T105008Z
UID:911-1578686400-1578686400@www.schuetzenverein-maingruendel.de
SUMMARY:Übungsschießen
DESCRIPTION:Standaufsicht & Schießleitung: Josef Burkhard
URL:https://www.schuetzenverein-maingruendel.de/event/uebungsschiessen-73/
CATEGORIES:Schießplan
END:VEVENT
BEGIN:VEVENT
DTSTART;TZID=Europe/Berlin:20200117T200000
DTEND;TZID=Europe/Berlin:20200117T200000
DTSTAMP:20260424T104718
CREATED:20191212T155836Z
LAST-MODIFIED:20191212T155836Z
UID:916-1579291200-1579291200@www.schuetzenverein-maingruendel.de
SUMMARY:Jahreshauptversammlung
DESCRIPTION:Beginn: 20.00 Uhr
URL:https://www.schuetzenverein-maingruendel.de/event/jahreshauptversammlung-4/
END:VEVENT
BEGIN:VEVENT
DTSTART;TZID=Europe/Berlin:20200124T200000
DTEND;TZID=Europe/Berlin:20200124T200000
DTSTAMP:20260424T104718
CREATED:20200103T105611Z
LAST-MODIFIED:20200103T105611Z
UID:939-1579896000-1579896000@www.schuetzenverein-maingruendel.de
SUMMARY:Übungsschießen
DESCRIPTION:Standaufsicht & Schießleitung: Joachim Schalk
URL:https://www.schuetzenverein-maingruendel.de/event/uebungsschiessen-75/
CATEGORIES:Schießplan
END:VEVENT
BEGIN:VEVENT
DTSTART;TZID=Europe/Berlin:20200131T200000
DTEND;TZID=Europe/Berlin:20200131T200000
DTSTAMP:20260424T104718
CREATED:20200103T105658Z
LAST-MODIFIED:20200103T105658Z
UID:941-1580500800-1580500800@www.schuetzenverein-maingruendel.de
SUMMARY:Übungsschießen
DESCRIPTION:Standaufsicht & Schießleitung: Johann Kugelmann
URL:https://www.schuetzenverein-maingruendel.de/event/uebungsschiessen-76/
CATEGORIES:Schießplan
END:VEVENT
END:VCALENDAR