BEGIN:VCALENDAR
VERSION:2.0
PRODID:-//Leonhardischützen Maingründel - ECPv6.2.0.1//NONSGML v1.0//EN
CALSCALE:GREGORIAN
METHOD:PUBLISH
X-ORIGINAL-URL:https://www.schuetzenverein-maingruendel.de
X-WR-CALDESC:Veranstaltungen für Leonhardischützen Maingründel
REFRESH-INTERVAL;VALUE=DURATION:PT1H
X-Robots-Tag:noindex
X-PUBLISHED-TTL:PT1H
BEGIN:VTIMEZONE
TZID:Europe/Berlin
BEGIN:DAYLIGHT
TZOFFSETFROM:+0100
TZOFFSETTO:+0200
TZNAME:CEST
DTSTART:20200329T010000
END:DAYLIGHT
BEGIN:STANDARD
TZOFFSETFROM:+0200
TZOFFSETTO:+0100
TZNAME:CET
DTSTART:20201025T010000
END:STANDARD
END:VTIMEZONE
BEGIN:VEVENT
DTSTART;TZID=Europe/Berlin:20200207T200000
DTEND;TZID=Europe/Berlin:20200207T200000
DTSTAMP:20260422T091058
CREATED:20200103T105759Z
LAST-MODIFIED:20200103T105759Z
UID:943-1581105600-1581105600@www.schuetzenverein-maingruendel.de
SUMMARY:Übungsschießen
DESCRIPTION:Standaufsicht & Schießleitung: Matthias Schütz
URL:https://www.schuetzenverein-maingruendel.de/event/uebungsschiessen-77/
CATEGORIES:Schießplan
END:VEVENT
BEGIN:VEVENT
DTSTART;TZID=Europe/Berlin:20200214T200000
DTEND;TZID=Europe/Berlin:20200214T200000
DTSTAMP:20260422T091058
CREATED:20200103T105841Z
LAST-MODIFIED:20200103T105846Z
UID:945-1581710400-1581710400@www.schuetzenverein-maingruendel.de
SUMMARY:Übungsschießen
DESCRIPTION:Standaufsicht & Schießleitung: Franz Kugelmann
URL:https://www.schuetzenverein-maingruendel.de/event/uebungsschiessen-78/
CATEGORIES:Schießplan
END:VEVENT
BEGIN:VEVENT
DTSTART;TZID=Europe/Berlin:20200221T200000
DTEND;TZID=Europe/Berlin:20200221T200000
DTSTAMP:20260422T091058
CREATED:20200103T105929Z
LAST-MODIFIED:20200103T105929Z
UID:947-1582315200-1582315200@www.schuetzenverein-maingruendel.de
SUMMARY:Übungsschießen
DESCRIPTION:Standaufsicht & Schießleitung: Wolfgang Brunsch
URL:https://www.schuetzenverein-maingruendel.de/event/uebungsschiessen-79/
CATEGORIES:Schießplan
END:VEVENT
BEGIN:VEVENT
DTSTART;TZID=Europe/Berlin:20200222T193000
DTEND;TZID=Europe/Berlin:20200222T193000
DTSTAMP:20260422T091058
CREATED:20200220T125724Z
LAST-MODIFIED:20200220T125724Z
UID:981-1582399800-1582399800@www.schuetzenverein-maingruendel.de
SUMMARY:Faschingsball der Maingründler Vereine
DESCRIPTION:Faschingsball der Maingründler Vereine in der Gemeindehalle Kutzenhausen. \nEinlass: ab 19.30 Uhr
URL:https://www.schuetzenverein-maingruendel.de/event/faschingsball-der-maingruendler-vereine-3/
CATEGORIES:Feste
END:VEVENT
BEGIN:VEVENT
DTSTART;TZID=Europe/Berlin:20200224T143000
DTEND;TZID=Europe/Berlin:20200224T143000
DTSTAMP:20260422T091058
CREATED:20200224T121841Z
LAST-MODIFIED:20200224T121841Z
UID:983-1582554600-1582554600@www.schuetzenverein-maingruendel.de
SUMMARY:Rosenmontagsball mit Königsproklamation
DESCRIPTION:Rosenmontagsball mit Königsproklamation im Bürgerheim Maingründel \nBeginn: ab 14.30 Uhr Kaffeekränzchen \n               ab 17.00 Uhr warmes Essen \n 
URL:https://www.schuetzenverein-maingruendel.de/event/rosenmontagsball-mit-koenigsproklamation/
CATEGORIES:Feste
END:VEVENT
BEGIN:VEVENT
DTSTART;TZID=Europe/Berlin:20200228T200000
DTEND;TZID=Europe/Berlin:20200228T200000
DTSTAMP:20260422T091058
CREATED:20200203T110140Z
LAST-MODIFIED:20200203T110140Z
UID:968-1582920000-1582920000@www.schuetzenverein-maingruendel.de
SUMMARY:Wanderpokalschießen
DESCRIPTION:Standaufsicht & Schießleitung: Willi Kraus
URL:https://www.schuetzenverein-maingruendel.de/event/wanderpokalschiessen-4/
CATEGORIES:Schießplan
END:VEVENT
END:VCALENDAR