BEGIN:VCALENDAR
VERSION:2.0
PRODID:-//Leonhardischützen Maingründel - ECPv6.2.0.1//NONSGML v1.0//EN
CALSCALE:GREGORIAN
METHOD:PUBLISH
X-ORIGINAL-URL:https://www.schuetzenverein-maingruendel.de
X-WR-CALDESC:Veranstaltungen für Leonhardischützen Maingründel
REFRESH-INTERVAL;VALUE=DURATION:PT1H
X-Robots-Tag:noindex
X-PUBLISHED-TTL:PT1H
BEGIN:VTIMEZONE
TZID:Europe/Berlin
BEGIN:DAYLIGHT
TZOFFSETFROM:+0100
TZOFFSETTO:+0200
TZNAME:CEST
DTSTART:20230326T010000
END:DAYLIGHT
BEGIN:STANDARD
TZOFFSETFROM:+0200
TZOFFSETTO:+0100
TZNAME:CET
DTSTART:20231029T010000
END:STANDARD
END:VTIMEZONE
BEGIN:VEVENT
DTSTART;TZID=Europe/Berlin:20230303T200000
DTEND;TZID=Europe/Berlin:20230303T200000
DTSTAMP:20260424T104839
CREATED:20230320T143752Z
LAST-MODIFIED:20230320T143752Z
UID:1140-1677873600-1677873600@www.schuetzenverein-maingruendel.de
SUMMARY:Wanderpokalschießen
DESCRIPTION:Standaufsicht & Schießleitung: Willi Kraus
URL:https://www.schuetzenverein-maingruendel.de/event/wanderpokalschiessen-6/
CATEGORIES:Schießplan
END:VEVENT
BEGIN:VEVENT
DTSTART;TZID=Europe/Berlin:20230310T200000
DTEND;TZID=Europe/Berlin:20230310T200000
DTSTAMP:20260424T104839
CREATED:20230320T143722Z
LAST-MODIFIED:20230320T143722Z
UID:1138-1678478400-1678478400@www.schuetzenverein-maingruendel.de
SUMMARY:Übungsschießen
DESCRIPTION:Standaufsicht & Schießleitung: Günther Burkhard
URL:https://www.schuetzenverein-maingruendel.de/event/uebungsschiessen-103/
CATEGORIES:Schießplan
END:VEVENT
BEGIN:VEVENT
DTSTART;TZID=Europe/Berlin:20230317T200000
DTEND;TZID=Europe/Berlin:20230317T200000
DTSTAMP:20260424T104839
CREATED:20230320T143647Z
LAST-MODIFIED:20230320T143647Z
UID:1136-1679083200-1679083200@www.schuetzenverein-maingruendel.de
SUMMARY:Übungsschießen
DESCRIPTION:Standaufsicht & Schießleitung: Josef Burkhard
URL:https://www.schuetzenverein-maingruendel.de/event/uebungsschiessen-102/
CATEGORIES:Schießplan
END:VEVENT
BEGIN:VEVENT
DTSTART;TZID=Europe/Berlin:20230319T061500
DTEND;TZID=Europe/Berlin:20230319T170000
DTSTAMP:20260424T104839
CREATED:20230320T143927Z
LAST-MODIFIED:20230320T143927Z
UID:1142-1679206500-1679245200@www.schuetzenverein-maingruendel.de
SUMMARY:Wallfahrt nach Maria Vesperbild
DESCRIPTION:Dank-Wallfahrt \nden\njedes Kind ist ein Geschenk des Himmels \nStart: Sonntag\, 19. März 2023 um 6.15 Uhr vor der Kapelle Maingründel
URL:https://www.schuetzenverein-maingruendel.de/event/wallfahrt-nach-maria-vesperbild/
CATEGORIES:Feste
END:VEVENT
BEGIN:VEVENT
DTSTART;TZID=Europe/Berlin:20230324T200000
DTEND;TZID=Europe/Berlin:20230324T200000
DTSTAMP:20260424T104839
CREATED:20230320T143313Z
LAST-MODIFIED:20230320T143313Z
UID:1128-1679688000-1679688000@www.schuetzenverein-maingruendel.de
SUMMARY:Übungsschießen
DESCRIPTION:Standaufsicht & Schießleitung: Joachim Schalk
URL:https://www.schuetzenverein-maingruendel.de/event/uebungsschiessen-99/
CATEGORIES:Schießplan
END:VEVENT
BEGIN:VEVENT
DTSTART;TZID=Europe/Berlin:20230325T200000
DTEND;TZID=Europe/Berlin:20230325T200000
DTSTAMP:20260424T104839
CREATED:20230320T143441Z
LAST-MODIFIED:20230320T143441Z
UID:1130-1679774400-1679774400@www.schuetzenverein-maingruendel.de
SUMMARY:Preisschafkopf
DESCRIPTION:Einladung zum Preisschafkopf \nBeginn: Samstag\, 25. März 2023 um 20:00 Uhr im Bürgerheim Maingründel
URL:https://www.schuetzenverein-maingruendel.de/event/preisschafkopf/
CATEGORIES:Feste
END:VEVENT
BEGIN:VEVENT
DTSTART;TZID=Europe/Berlin:20230331T200000
DTEND;TZID=Europe/Berlin:20230331T200000
DTSTAMP:20260424T104839
CREATED:20230320T143526Z
LAST-MODIFIED:20230320T143526Z
UID:1132-1680292800-1680292800@www.schuetzenverein-maingruendel.de
SUMMARY:Übungsschießen
DESCRIPTION:Standaufsicht & Schießleitung: Johann Kugelmann
URL:https://www.schuetzenverein-maingruendel.de/event/uebungsschiessen-100/
CATEGORIES:Schießplan
END:VEVENT
END:VCALENDAR