BEGIN:VCALENDAR
VERSION:2.0
PRODID:-//Leonhardischützen Maingründel - ECPv6.2.0.1//NONSGML v1.0//EN
CALSCALE:GREGORIAN
METHOD:PUBLISH
X-ORIGINAL-URL:https://www.schuetzenverein-maingruendel.de
X-WR-CALDESC:Veranstaltungen für Leonhardischützen Maingründel
REFRESH-INTERVAL;VALUE=DURATION:PT1H
X-Robots-Tag:noindex
X-PUBLISHED-TTL:PT1H
BEGIN:VTIMEZONE
TZID:Europe/Berlin
BEGIN:DAYLIGHT
TZOFFSETFROM:+0100
TZOFFSETTO:+0200
TZNAME:CEST
DTSTART:20230326T010000
END:DAYLIGHT
BEGIN:STANDARD
TZOFFSETFROM:+0200
TZOFFSETTO:+0100
TZNAME:CET
DTSTART:20231029T010000
END:STANDARD
END:VTIMEZONE
BEGIN:VEVENT
DTSTART;TZID=Europe/Berlin:20230414T200000
DTEND;TZID=Europe/Berlin:20230414T200000
DTSTAMP:20260424T121928
CREATED:20230320T143606Z
LAST-MODIFIED:20230320T143606Z
UID:1134-1681502400-1681502400@www.schuetzenverein-maingruendel.de
SUMMARY:Übungsschießen
DESCRIPTION:Standaufsicht & Schießleitung: Matthias Schütz
URL:https://www.schuetzenverein-maingruendel.de/event/uebungsschiessen-101/
CATEGORIES:Schießplan
END:VEVENT
BEGIN:VEVENT
DTSTART;TZID=Europe/Berlin:20230421T200000
DTEND;TZID=Europe/Berlin:20230421T200000
DTSTAMP:20260424T121928
CREATED:20230322T170436Z
LAST-MODIFIED:20230322T170436Z
UID:1153-1682107200-1682107200@www.schuetzenverein-maingruendel.de
SUMMARY:Vereinspokalschießen
DESCRIPTION:Standaufsicht & Schießleitung: Franz Kugelmann
URL:https://www.schuetzenverein-maingruendel.de/event/vereinspokalschiessen-9/
CATEGORIES:Schießplan
END:VEVENT
BEGIN:VEVENT
DTSTART;TZID=Europe/Berlin:20230428T200000
DTEND;TZID=Europe/Berlin:20230428T200000
DTSTAMP:20260424T121928
CREATED:20230322T170615Z
LAST-MODIFIED:20230322T170615Z
UID:1155-1682712000-1682712000@www.schuetzenverein-maingruendel.de
SUMMARY:Vereinspokalschießen
DESCRIPTION:Standaufsicht & Schießleitung: Brunsch Wolfgang
URL:https://www.schuetzenverein-maingruendel.de/event/vereinspokalschiessen-10/
CATEGORIES:Schießplan
END:VEVENT
END:VCALENDAR